BEGIN:VCALENDAR
VERSION:2.0
PRODID:-// - ECPv6.15.20//NONSGML v1.0//EN
CALSCALE:GREGORIAN
METHOD:PUBLISH
X-ORIGINAL-URL:https://otrkidz.com
X-WR-CALDESC:Events for 
REFRESH-INTERVAL;VALUE=DURATION:PT1H
X-Robots-Tag:noindex
X-PUBLISHED-TTL:PT1H
BEGIN:VTIMEZONE
TZID:UTC
BEGIN:STANDARD
TZOFFSETFROM:+0000
TZOFFSETTO:+0000
TZNAME:UTC
DTSTART:20190101T000000
END:STANDARD
END:VTIMEZONE
BEGIN:VEVENT
DTSTART;VALUE=DATE:20200427
DTEND;VALUE=DATE:20200428
DTSTAMP:20260421T175146
CREATED:20200505T213027Z
LAST-MODIFIED:20200505T213027Z
UID:2974-1587945600-1588031999@otrkidz.com
SUMMARY:Preschool Program Units and Themes
DESCRIPTION:★ Mother Goose
URL:https://otrkidz.com/event/preschool-program-units-and-themes/
CATEGORIES:Units and Themes
END:VEVENT
BEGIN:VEVENT
DTSTART;VALUE=DATE:20200427
DTEND;VALUE=DATE:20200428
DTSTAMP:20260421T175146
CREATED:20200505T213105Z
LAST-MODIFIED:20200505T213105Z
UID:2976-1587945600-1588031999@otrkidz.com
SUMMARY:Snuggle Program Units and Themes
DESCRIPTION:★ Mother Goose
URL:https://otrkidz.com/event/snuggle-program-units-and-themes/
CATEGORIES:Units and Themes
END:VEVENT
BEGIN:VEVENT
DTSTART;VALUE=DATE:20200429
DTEND;VALUE=DATE:20200430
DTSTAMP:20260421T175146
CREATED:20200505T213834Z
LAST-MODIFIED:20200505T213834Z
UID:2994-1588118400-1588204799@otrkidz.com
SUMMARY:School Shirt Day / Favorite T-Shirt
DESCRIPTION:
URL:https://otrkidz.com/event/school-shirt-day-favorite-t-shirt/
END:VEVENT
BEGIN:VEVENT
DTSTART;VALUE=DATE:20200430
DTEND;VALUE=DATE:20200501
DTSTAMP:20260421T175146
CREATED:20200505T214250Z
LAST-MODIFIED:20200505T214250Z
UID:2996-1588204800-1588291199@otrkidz.com
SUMMARY:School Shirt Day / Favorite T-Shirt
DESCRIPTION:
URL:https://otrkidz.com/event/school-shirt-day-favorite-t-shirt-2/
END:VEVENT
END:VCALENDAR