BEGIN:VCALENDAR
VERSION:2.0
PRODID:-// - ECPv6.15.20//NONSGML v1.0//EN
CALSCALE:GREGORIAN
METHOD:PUBLISH
X-ORIGINAL-URL:https://otrkidz.com
X-WR-CALDESC:Events for 
REFRESH-INTERVAL;VALUE=DURATION:PT1H
X-Robots-Tag:noindex
X-PUBLISHED-TTL:PT1H
BEGIN:VTIMEZONE
TZID:UTC
BEGIN:STANDARD
TZOFFSETFROM:+0000
TZOFFSETTO:+0000
TZNAME:UTC
DTSTART:20140101T000000
END:STANDARD
END:VTIMEZONE
BEGIN:VEVENT
DTSTART;VALUE=DATE:20151130
DTEND;VALUE=DATE:20151201
DTSTAMP:20260419T142330
CREATED:20151202T044511Z
LAST-MODIFIED:20151202T044535Z
UID:592-1448841600-1448927999@otrkidz.com
SUMMARY:Holiday happenings begin today!
DESCRIPTION:
URL:https://otrkidz.com/event/holiday-happenings-begin-today/
END:VEVENT
BEGIN:VEVENT
DTSTART;VALUE=DATE:20151130
DTEND;VALUE=DATE:20151201
DTSTAMP:20260419T142330
CREATED:20151110T042556Z
LAST-MODIFIED:20151110T042556Z
UID:550-1448841600-1448927999@otrkidz.com
SUMMARY:Units and Themes for the Week
DESCRIPTION:PreSchool Program :\n\nMusical Instruments\nMarching Band\n\nSnuggle Program :\n\nMusical Instruments\nMarching Band
URL:https://otrkidz.com/event/units-and-themes-for-the-week-5/
CATEGORIES:Units and Themes
END:VEVENT
BEGIN:VEVENT
DTSTART;VALUE=DATE:20151127
DTEND;VALUE=DATE:20151128
DTSTAMP:20260419T142330
CREATED:20151110T043452Z
LAST-MODIFIED:20151110T043452Z
UID:569-1448582400-1448668799@otrkidz.com
SUMMARY:Thanksgiving Holiday
DESCRIPTION:School closed
URL:https://otrkidz.com/event/thanksgiving-holiday-2/
END:VEVENT
BEGIN:VEVENT
DTSTART;VALUE=DATE:20151126
DTEND;VALUE=DATE:20151127
DTSTAMP:20260419T142330
CREATED:20151110T043428Z
LAST-MODIFIED:20151110T043428Z
UID:568-1448496000-1448582399@otrkidz.com
SUMMARY:Thanksgiving Holiday
DESCRIPTION:School Closed
URL:https://otrkidz.com/event/thanksgiving-holiday/
END:VEVENT
BEGIN:VEVENT
DTSTART;VALUE=DATE:20151125
DTEND;VALUE=DATE:20151126
DTSTAMP:20260419T142330
CREATED:20151110T043356Z
LAST-MODIFIED:20151110T043552Z
UID:567-1448409600-1448495999@otrkidz.com
SUMMARY:Pizza Wednesday
DESCRIPTION:
URL:https://otrkidz.com/event/pizza-wednesday/
END:VEVENT
BEGIN:VEVENT
DTSTART;VALUE=DATE:20151124
DTEND;VALUE=DATE:20151125
DTSTAMP:20260419T142330
CREATED:20151110T043336Z
LAST-MODIFIED:20151110T043336Z
UID:566-1448323200-1448409599@otrkidz.com
SUMMARY:Drummers' Circle
DESCRIPTION:
URL:https://otrkidz.com/event/drummers-circle-6/
END:VEVENT
BEGIN:VEVENT
DTSTART;VALUE=DATE:20151123
DTEND;VALUE=DATE:20151124
DTSTAMP:20260419T142330
CREATED:20151110T042450Z
LAST-MODIFIED:20151110T042450Z
UID:549-1448236800-1448323199@otrkidz.com
SUMMARY:Units and Themes for the Week
DESCRIPTION:PreSchool Program :\n\nThanksgiving\nSquare\nRectangle\n\nSnuggle Program :\n\nThanksgiving\nSquare
URL:https://otrkidz.com/event/units-and-themes-for-the-week-4/
CATEGORIES:Units and Themes
END:VEVENT
BEGIN:VEVENT
DTSTART;VALUE=DATE:20151120
DTEND;VALUE=DATE:20151121
DTSTAMP:20260419T142330
CREATED:20151110T043317Z
LAST-MODIFIED:20151110T043317Z
UID:565-1447977600-1448063999@otrkidz.com
SUMMARY:Pizza Friday
DESCRIPTION:
URL:https://otrkidz.com/event/pizza-friday-3/
END:VEVENT
BEGIN:VEVENT
DTSTART;VALUE=DATE:20151120
DTEND;VALUE=DATE:20151121
DTSTAMP:20260419T142330
CREATED:20151110T043259Z
LAST-MODIFIED:20151110T043259Z
UID:564-1447977600-1448063999@otrkidz.com
SUMMARY:Bring a Fruit Day
DESCRIPTION:
URL:https://otrkidz.com/event/bring-a-fruit-day/
END:VEVENT
BEGIN:VEVENT
DTSTART;VALUE=DATE:20151119
DTEND;VALUE=DATE:20151120
DTSTAMP:20260419T142330
CREATED:20151110T043238Z
LAST-MODIFIED:20151110T043238Z
UID:563-1447891200-1447977599@otrkidz.com
SUMMARY:Yoga
DESCRIPTION:
URL:https://otrkidz.com/event/yoga-6/
END:VEVENT
BEGIN:VEVENT
DTSTART;VALUE=DATE:20151116
DTEND;VALUE=DATE:20151117
DTSTAMP:20260419T142330
CREATED:20151110T043221Z
LAST-MODIFIED:20151110T043221Z
UID:562-1447632000-1447718399@otrkidz.com
SUMMARY:Jim Rohe visits
DESCRIPTION:
URL:https://otrkidz.com/event/jim-rohe-visits-2/
END:VEVENT
BEGIN:VEVENT
DTSTART;VALUE=DATE:20151116
DTEND;VALUE=DATE:20151117
DTSTAMP:20260419T142330
CREATED:20151110T042249Z
LAST-MODIFIED:20151110T042249Z
UID:548-1447632000-1447718399@otrkidz.com
SUMMARY:Units and Themes for the Week
DESCRIPTION:PreSchool Program :\n\nNative Americans\nNutrition and Food Groups\n#3\n\nSnuggle Program :\n\nNutrition\nWhat’s in my Lunchbox?\nOur Favorite Foods\nRaffi
URL:https://otrkidz.com/event/units-and-themes-for-the-week-3/
CATEGORIES:Units and Themes
END:VEVENT
BEGIN:VEVENT
DTSTART;VALUE=DATE:20151113
DTEND;VALUE=DATE:20151114
DTSTAMP:20260419T142330
CREATED:20151110T043153Z
LAST-MODIFIED:20151110T043153Z
UID:561-1447372800-1447459199@otrkidz.com
SUMMARY:Pizza Friday
DESCRIPTION:
URL:https://otrkidz.com/event/pizza-friday-2/
END:VEVENT
BEGIN:VEVENT
DTSTART;VALUE=DATE:20151112
DTEND;VALUE=DATE:20151113
DTSTAMP:20260419T142330
CREATED:20151110T043132Z
LAST-MODIFIED:20151110T043132Z
UID:560-1447286400-1447372799@otrkidz.com
SUMMARY:Yoga
DESCRIPTION:
URL:https://otrkidz.com/event/yoga-5/
END:VEVENT
BEGIN:VEVENT
DTSTART;VALUE=DATE:20151111
DTEND;VALUE=DATE:20151112
DTSTAMP:20260419T142330
CREATED:20151110T043108Z
LAST-MODIFIED:20151110T043108Z
UID:559-1447200000-1447286399@otrkidz.com
SUMMARY:Corduroy Day
DESCRIPTION:
URL:https://otrkidz.com/event/corduroy-day/
END:VEVENT
BEGIN:VEVENT
DTSTART;VALUE=DATE:20151110
DTEND;VALUE=DATE:20151111
DTSTAMP:20260419T142330
CREATED:20151110T043045Z
LAST-MODIFIED:20151110T043045Z
UID:558-1447113600-1447199999@otrkidz.com
SUMMARY:Brown Day
DESCRIPTION:Wear or bring something brown!
URL:https://otrkidz.com/event/brown-day/
END:VEVENT
BEGIN:VEVENT
DTSTART;VALUE=DATE:20151109
DTEND;VALUE=DATE:20151110
DTSTAMP:20260419T142330
CREATED:20151110T043019Z
LAST-MODIFIED:20151110T043019Z
UID:557-1447027200-1447113599@otrkidz.com
SUMMARY:Drummers' Circle
DESCRIPTION:
URL:https://otrkidz.com/event/drummers-circle-5/
END:VEVENT
BEGIN:VEVENT
DTSTART;VALUE=DATE:20151109
DTEND;VALUE=DATE:20151110
DTSTAMP:20260419T142330
CREATED:20151110T042053Z
LAST-MODIFIED:20151110T042053Z
UID:547-1447027200-1447113599@otrkidz.com
SUMMARY:Units and Themes for the Week
DESCRIPTION:PreSchool Program :\n\nFarm Life\nLetter: Ff\nHarvest\nColor: Brown\n\nSnuggle Program :\n\nFarm/Farm Items\nFarm Animals\nFall Harvest\nColor: Brown
URL:https://otrkidz.com/event/units-and-themes-for-the-week-2/
CATEGORIES:Units and Themes
END:VEVENT
BEGIN:VEVENT
DTSTART;VALUE=DATE:20151106
DTEND;VALUE=DATE:20151107
DTSTAMP:20260419T142330
CREATED:20151110T042855Z
LAST-MODIFIED:20151110T042855Z
UID:556-1446768000-1446854399@otrkidz.com
SUMMARY:Pizza Friday
DESCRIPTION:
URL:https://otrkidz.com/event/pizza-friday/
END:VEVENT
BEGIN:VEVENT
DTSTART;VALUE=DATE:20151106
DTEND;VALUE=DATE:20151107
DTSTAMP:20260419T142330
CREATED:20151110T042816Z
LAST-MODIFIED:20151110T042816Z
UID:555-1446768000-1446854399@otrkidz.com
SUMMARY:School Shirt Day
DESCRIPTION:
URL:https://otrkidz.com/event/school-shirt-day/
END:VEVENT
BEGIN:VEVENT
DTSTART;VALUE=DATE:20151106
DTEND;VALUE=DATE:20151107
DTSTAMP:20260419T142330
CREATED:20151110T042750Z
LAST-MODIFIED:20151110T042750Z
UID:554-1446768000-1446854399@otrkidz.com
SUMMARY:Jim Rohe visits
DESCRIPTION:
URL:https://otrkidz.com/event/jim-rohe-visits/
END:VEVENT
BEGIN:VEVENT
DTSTART;VALUE=DATE:20151105
DTEND;VALUE=DATE:20151106
DTSTAMP:20260419T142330
CREATED:20151110T042729Z
LAST-MODIFIED:20151110T042729Z
UID:553-1446681600-1446767999@otrkidz.com
SUMMARY:Yoga
DESCRIPTION:
URL:https://otrkidz.com/event/yoga-4/
END:VEVENT
BEGIN:VEVENT
DTSTART;VALUE=DATE:20151105
DTEND;VALUE=DATE:20151106
DTSTAMP:20260419T142330
CREATED:20151110T042707Z
LAST-MODIFIED:20151110T042707Z
UID:552-1446681600-1446767999@otrkidz.com
SUMMARY:Pre-K trip to Montclair Art Museum
DESCRIPTION:
URL:https://otrkidz.com/event/pre-k-trip-to-montclair-art-museum/
END:VEVENT
BEGIN:VEVENT
DTSTART;VALUE=DATE:20151103
DTEND;VALUE=DATE:20151104
DTSTAMP:20260419T142330
CREATED:20151110T041559Z
LAST-MODIFIED:20151110T041559Z
UID:545-1446508800-1446595199@otrkidz.com
SUMMARY:Election Day
DESCRIPTION:Exercise your right to vote!
URL:https://otrkidz.com/event/election-day/
END:VEVENT
BEGIN:VEVENT
DTSTART;VALUE=DATE:20151102
DTEND;VALUE=DATE:20151103
DTSTAMP:20260419T142330
CREATED:20151110T041915Z
LAST-MODIFIED:20151110T041915Z
UID:546-1446422400-1446508799@otrkidz.com
SUMMARY:Units and Themes for the Week
DESCRIPTION:PreSchool Program :\n\nLetter: Ee\nIn Our Yard: Geese migration\nNursery Rhymes\n\nSnuggle Program :\n\nThe Grocery Store\nIn Our Yard: Geese\nNursery Rhymes
URL:https://otrkidz.com/event/units-and-themes-for-the-week/
CATEGORIES:Units and Themes
END:VEVENT
BEGIN:VEVENT
DTSTART;VALUE=DATE:20151030
DTEND;VALUE=DATE:20151031
DTSTAMP:20260419T142330
CREATED:20151006T225040Z
LAST-MODIFIED:20151006T225040Z
UID:534-1446163200-1446249599@otrkidz.com
SUMMARY:Halloween Party
DESCRIPTION:All enrolled children invited (9-12)\nSign-up Lists outside classrooms
URL:https://otrkidz.com/event/halloween-party/
END:VEVENT
BEGIN:VEVENT
DTSTART;VALUE=DATE:20151027
DTEND;VALUE=DATE:20151028
DTSTAMP:20260419T142330
CREATED:20151006T225004Z
LAST-MODIFIED:20151006T225004Z
UID:533-1445904000-1445990399@otrkidz.com
SUMMARY:Drummers’ Circle
DESCRIPTION:
URL:https://otrkidz.com/event/drummers-circle-4/
END:VEVENT
BEGIN:VEVENT
DTSTART;VALUE=DATE:20151026
DTEND;VALUE=DATE:20151027
DTSTAMP:20260419T142330
CREATED:20151006T224349Z
LAST-MODIFIED:20151006T224349Z
UID:519-1445817600-1445903999@otrkidz.com
SUMMARY:Unit and Themes for the Week
DESCRIPTION:PreSchool Program :\n\nHalloween\nHalloween Safety\nRecycle- The 3R’s\n\nSnuggle Program :\n\nHalloween\nHalloween Safety\nRecycle
URL:https://otrkidz.com/event/unit-and-themes-for-the-week-7/
CATEGORIES:Units and Themes
END:VEVENT
BEGIN:VEVENT
DTSTART;VALUE=DATE:20151023
DTEND;VALUE=DATE:20151024
DTSTAMP:20260419T142330
CREATED:20151006T224948Z
LAST-MODIFIED:20151006T224948Z
UID:532-1445558400-1445644799@otrkidz.com
SUMMARY:Snuggle Program  Pumpkin Patch
DESCRIPTION:
URL:https://otrkidz.com/event/snuggle-program-pumpkin-patch/
END:VEVENT
BEGIN:VEVENT
DTSTART;VALUE=DATE:20151022
DTEND;VALUE=DATE:20151023
DTSTAMP:20260419T142330
CREATED:20151006T224928Z
LAST-MODIFIED:20151006T224928Z
UID:531-1445472000-1445558399@otrkidz.com
SUMMARY:Yoga
DESCRIPTION:
URL:https://otrkidz.com/event/yoga-3/
END:VEVENT
END:VCALENDAR