BEGIN:VCALENDAR
VERSION:2.0
PRODID:-// - ECPv6.15.20//NONSGML v1.0//EN
CALSCALE:GREGORIAN
METHOD:PUBLISH
X-ORIGINAL-URL:https://otrkidz.com
X-WR-CALDESC:Events for 
REFRESH-INTERVAL;VALUE=DURATION:PT1H
X-Robots-Tag:noindex
X-PUBLISHED-TTL:PT1H
BEGIN:VTIMEZONE
TZID:America/New_York
BEGIN:DAYLIGHT
TZOFFSETFROM:-0500
TZOFFSETTO:-0400
TZNAME:EDT
DTSTART:20240310T070000
END:DAYLIGHT
BEGIN:STANDARD
TZOFFSETFROM:-0400
TZOFFSETTO:-0500
TZNAME:EST
DTSTART:20241103T060000
END:STANDARD
BEGIN:DAYLIGHT
TZOFFSETFROM:-0500
TZOFFSETTO:-0400
TZNAME:EDT
DTSTART:20250309T070000
END:DAYLIGHT
BEGIN:STANDARD
TZOFFSETFROM:-0400
TZOFFSETTO:-0500
TZNAME:EST
DTSTART:20251102T060000
END:STANDARD
BEGIN:DAYLIGHT
TZOFFSETFROM:-0500
TZOFFSETTO:-0400
TZNAME:EDT
DTSTART:20260308T070000
END:DAYLIGHT
BEGIN:STANDARD
TZOFFSETFROM:-0400
TZOFFSETTO:-0500
TZNAME:EST
DTSTART:20261101T060000
END:STANDARD
END:VTIMEZONE
BEGIN:VEVENT
DTSTART;VALUE=DATE:20251208
DTEND;VALUE=DATE:20251216
DTSTAMP:20260422T044149
CREATED:20251128T165729Z
LAST-MODIFIED:20251128T165729Z
UID:5880-1765152000-1765843199@otrkidz.com
SUMMARY:Food Collection
DESCRIPTION:
URL:https://otrkidz.com/event/food-collection-2/
END:VEVENT
BEGIN:VEVENT
DTSTART;VALUE=DATE:20251215
DTEND;VALUE=DATE:20251216
DTSTAMP:20260422T044149
CREATED:20251128T165158Z
LAST-MODIFIED:20251128T165158Z
UID:5862-1765756800-1765843199@otrkidz.com
SUMMARY:Preschool Program Units and Themes
DESCRIPTION:★ Visiting Relatives \n★ #4 \n★ Winter Solstice \n★ December Food Collection 12/8-12/15
URL:https://otrkidz.com/event/preschool-program-units-and-themes-138/
CATEGORIES:Units and Themes
END:VEVENT
BEGIN:VEVENT
DTSTART;VALUE=DATE:20251215
DTEND;VALUE=DATE:20251216
DTSTAMP:20260422T044149
CREATED:20251128T165257Z
LAST-MODIFIED:20251128T165257Z
UID:5864-1765756800-1765843199@otrkidz.com
SUMMARY:Snuggle Program Units and Themes
DESCRIPTION:★ Visiting Relatives \n★ Winter Solstice \n★ December Food Collection 12/8/-12/15
URL:https://otrkidz.com/event/snuggle-program-units-and-themes-138/
CATEGORIES:Units and Themes
END:VEVENT
BEGIN:VEVENT
DTSTART;VALUE=DATE:20251215
DTEND;VALUE=DATE:20251216
DTSTAMP:20260422T044149
CREATED:20251128T165823Z
LAST-MODIFIED:20251128T165823Z
UID:5884-1765756800-1765843199@otrkidz.com
SUMMARY:Happy Hanukkah (14)
DESCRIPTION:
URL:https://otrkidz.com/event/happy-hanukkah-14/
END:VEVENT
BEGIN:VEVENT
DTSTART;VALUE=DATE:20251215
DTEND;VALUE=DATE:20251216
DTSTAMP:20260422T044149
CREATED:20251128T165906Z
LAST-MODIFIED:20251128T165906Z
UID:5886-1765756800-1765843199@otrkidz.com
SUMMARY:Hanukkah Party - Potato Latkes/applesauce
DESCRIPTION:
URL:https://otrkidz.com/event/hanukkah-party-potato-latkes-applesauce-3/
END:VEVENT
END:VCALENDAR