BEGIN:VCALENDAR
VERSION:2.0
PRODID:-// - ECPv6.15.20//NONSGML v1.0//EN
CALSCALE:GREGORIAN
METHOD:PUBLISH
X-ORIGINAL-URL:https://otrkidz.com
X-WR-CALDESC:Events for 
REFRESH-INTERVAL;VALUE=DURATION:PT1H
X-Robots-Tag:noindex
X-PUBLISHED-TTL:PT1H
BEGIN:VTIMEZONE
TZID:UTC
BEGIN:STANDARD
TZOFFSETFROM:+0000
TZOFFSETTO:+0000
TZNAME:UTC
DTSTART:20230101T000000
END:STANDARD
END:VTIMEZONE
BEGIN:VEVENT
DTSTART;VALUE=DATE:20240513
DTEND;VALUE=DATE:20240514
DTSTAMP:20260421T143343
CREATED:20240501T024057Z
LAST-MODIFIED:20240501T024057Z
UID:4913-1715558400-1715644799@otrkidz.com
SUMMARY:Preschool Program Units and Themes
DESCRIPTION:★ Soil and Rocks \n★ Birds \n★ Vv
URL:https://otrkidz.com/event/preschool-program-units-and-themes-71/
CATEGORIES:Units and Themes
END:VEVENT
BEGIN:VEVENT
DTSTART;VALUE=DATE:20240513
DTEND;VALUE=DATE:20240514
DTSTAMP:20260421T143343
CREATED:20240501T024149Z
LAST-MODIFIED:20240501T024149Z
UID:4915-1715558400-1715644799@otrkidz.com
SUMMARY:Snuggle Program Units and Themes
DESCRIPTION:★ Soil and Rocks \n★ Birds \n★ Raffi
URL:https://otrkidz.com/event/snuggle-program-units-and-themes-73/
CATEGORIES:Units and Themes
END:VEVENT
BEGIN:VEVENT
DTSTART;VALUE=DATE:20240513
DTEND;VALUE=DATE:20240514
DTSTAMP:20260421T143343
CREATED:20240501T024806Z
LAST-MODIFIED:20240501T024806Z
UID:4937-1715558400-1715644799@otrkidz.com
SUMMARY:Bundles of Tumbles
DESCRIPTION:
URL:https://otrkidz.com/event/bundles-of-tumbles/
END:VEVENT
END:VCALENDAR