BEGIN:VCALENDAR
VERSION:2.0
PRODID:-// - ECPv6.15.20//NONSGML v1.0//EN
CALSCALE:GREGORIAN
METHOD:PUBLISH
X-ORIGINAL-URL:https://otrkidz.com
X-WR-CALDESC:Events for 
REFRESH-INTERVAL;VALUE=DURATION:PT1H
X-Robots-Tag:noindex
X-PUBLISHED-TTL:PT1H
BEGIN:VTIMEZONE
TZID:UTC
BEGIN:STANDARD
TZOFFSETFROM:+0000
TZOFFSETTO:+0000
TZNAME:UTC
DTSTART:20230101T000000
END:STANDARD
END:VTIMEZONE
BEGIN:VEVENT
DTSTART;VALUE=DATE:20240506
DTEND;VALUE=DATE:20240507
DTSTAMP:20260421T125632
CREATED:20240501T023925Z
LAST-MODIFIED:20240501T023925Z
UID:4909-1714953600-1715039999@otrkidz.com
SUMMARY:Preschool Program Units and Themes
DESCRIPTION:★ Flowers in Bloom \n★ Insects \n★ Teacher Appreciation Week
URL:https://otrkidz.com/event/preschool-program-units-and-themes-70/
CATEGORIES:Units and Themes
END:VEVENT
BEGIN:VEVENT
DTSTART;VALUE=DATE:20240506
DTEND;VALUE=DATE:20240507
DTSTAMP:20260421T125632
CREATED:20240501T023957Z
LAST-MODIFIED:20240501T023957Z
UID:4911-1714953600-1715039999@otrkidz.com
SUMMARY:Snuggle Program Units and Themes
DESCRIPTION:★ Flowers in Bloom \n★ Insects \n★ Teacher Appreciation Week
URL:https://otrkidz.com/event/snuggle-program-units-and-themes-72/
CATEGORIES:Units and Themes
END:VEVENT
END:VCALENDAR