BEGIN:VCALENDAR
VERSION:2.0
PRODID:-// - ECPv6.15.20//NONSGML v1.0//EN
CALSCALE:GREGORIAN
METHOD:PUBLISH
X-ORIGINAL-URL:https://otrkidz.com
X-WR-CALDESC:Events for 
REFRESH-INTERVAL;VALUE=DURATION:PT1H
X-Robots-Tag:noindex
X-PUBLISHED-TTL:PT1H
BEGIN:VTIMEZONE
TZID:UTC
BEGIN:STANDARD
TZOFFSETFROM:+0000
TZOFFSETTO:+0000
TZNAME:UTC
DTSTART:20230101T000000
END:STANDARD
END:VTIMEZONE
BEGIN:VEVENT
DTSTART;VALUE=DATE:20240429
DTEND;VALUE=DATE:20240430
DTSTAMP:20260421T111743
CREATED:20240501T023728Z
LAST-MODIFIED:20240501T023728Z
UID:4905-1714348800-1714435199@otrkidz.com
SUMMARY:Preschool Program Units and Themes
DESCRIPTION:★ Purple \n★ Mother Goose \n★ Our Favorite Books
URL:https://otrkidz.com/event/preschool-program-units-and-themes-69/
CATEGORIES:Units and Themes
END:VEVENT
END:VCALENDAR