BEGIN:VCALENDAR
VERSION:2.0
PRODID:-// - ECPv6.15.20//NONSGML v1.0//EN
CALSCALE:GREGORIAN
METHOD:PUBLISH
X-ORIGINAL-URL:https://otrkidz.com
X-WR-CALDESC:Events for 
REFRESH-INTERVAL;VALUE=DURATION:PT1H
X-Robots-Tag:noindex
X-PUBLISHED-TTL:PT1H
BEGIN:VTIMEZONE
TZID:UTC
BEGIN:STANDARD
TZOFFSETFROM:+0000
TZOFFSETTO:+0000
TZNAME:UTC
DTSTART:20230101T000000
END:STANDARD
END:VTIMEZONE
BEGIN:VEVENT
DTSTART;VALUE=DATE:20240215
DTEND;VALUE=DATE:20240216
DTSTAMP:20260421T111833
CREATED:20240202T012630Z
LAST-MODIFIED:20240202T012630Z
UID:4844-1707955200-1708041599@otrkidz.com
SUMMARY:Great Backyard Bird Count (GBBC) - how many birds do we SEE in our yard?
DESCRIPTION:
URL:https://otrkidz.com/event/great-backyard-bird-count-gbbc-how-many-birds-do-we-see-in-our-yard-2/
END:VEVENT
END:VCALENDAR