BEGIN:VCALENDAR
VERSION:2.0
PRODID:-// - ECPv6.15.20//NONSGML v1.0//EN
CALSCALE:GREGORIAN
METHOD:PUBLISH
X-ORIGINAL-URL:https://otrkidz.com
X-WR-CALDESC:Events for 
REFRESH-INTERVAL;VALUE=DURATION:PT1H
X-Robots-Tag:noindex
X-PUBLISHED-TTL:PT1H
BEGIN:VTIMEZONE
TZID:UTC
BEGIN:STANDARD
TZOFFSETFROM:+0000
TZOFFSETTO:+0000
TZNAME:UTC
DTSTART:20230101T000000
END:STANDARD
END:VTIMEZONE
BEGIN:VEVENT
DTSTART;VALUE=DATE:20240212
DTEND;VALUE=DATE:20240213
DTSTAMP:20260421T111954
CREATED:20240202T012538Z
LAST-MODIFIED:20240202T012538Z
UID:4840-1707696000-1707782399@otrkidz.com
SUMMARY:"SOUP"er Bowl - wear your favorite sports attire; last day to bring your can of soup
DESCRIPTION:
URL:https://otrkidz.com/event/souper-bowl-wear-your-favorite-sports-attire-last-day-to-bring-your-can-of-soup/
END:VEVENT
END:VCALENDAR