BEGIN:VCALENDAR
VERSION:2.0
PRODID:-// - ECPv6.15.20//NONSGML v1.0//EN
CALSCALE:GREGORIAN
METHOD:PUBLISH
X-ORIGINAL-URL:https://otrkidz.com
X-WR-CALDESC:Events for 
REFRESH-INTERVAL;VALUE=DURATION:PT1H
X-Robots-Tag:noindex
X-PUBLISHED-TTL:PT1H
BEGIN:VTIMEZONE
TZID:UTC
BEGIN:STANDARD
TZOFFSETFROM:+0000
TZOFFSETTO:+0000
TZNAME:UTC
DTSTART:20210101T000000
END:STANDARD
END:VTIMEZONE
BEGIN:VEVENT
DTSTART;VALUE=DATE:20221107
DTEND;VALUE=DATE:20221117
DTSTAMP:20260422T151851
CREATED:20221107T202430Z
LAST-MODIFIED:20221107T202430Z
UID:4157-1667779200-1668643199@otrkidz.com
SUMMARY:Annual Holiday Food Collection
DESCRIPTION:
URL:https://otrkidz.com/event/annual-holiday-food-collection/
END:VEVENT
BEGIN:VEVENT
DTSTART;TZID=UTC:20221109T080000
DTEND;TZID=UTC:20221109T170000
DTSTAMP:20260422T151851
CREATED:20221107T202504Z
LAST-MODIFIED:20221107T202504Z
UID:4161-1667980800-1668013200@otrkidz.com
SUMMARY:Snuggle Zoom Visit
DESCRIPTION:
URL:https://otrkidz.com/event/snuggle-zoom-visit/
END:VEVENT
END:VCALENDAR