BEGIN:VCALENDAR
VERSION:2.0
PRODID:-// - ECPv6.15.20//NONSGML v1.0//EN
CALSCALE:GREGORIAN
METHOD:PUBLISH
X-ORIGINAL-URL:https://otrkidz.com
X-WR-CALDESC:Events for 
REFRESH-INTERVAL;VALUE=DURATION:PT1H
X-Robots-Tag:noindex
X-PUBLISHED-TTL:PT1H
BEGIN:VTIMEZONE
TZID:UTC
BEGIN:STANDARD
TZOFFSETFROM:+0000
TZOFFSETTO:+0000
TZNAME:UTC
DTSTART:20210101T000000
END:STANDARD
END:VTIMEZONE
BEGIN:VEVENT
DTSTART;VALUE=DATE:20221005
DTEND;VALUE=DATE:20221006
DTSTAMP:20260422T110636
CREATED:20221005T181440Z
LAST-MODIFIED:20221005T181440Z
UID:4124-1664928000-1665014399@otrkidz.com
SUMMARY:Orange Day: wear something orange
DESCRIPTION:
URL:https://otrkidz.com/event/orange-day-wear-something-orange-2/
END:VEVENT
BEGIN:VEVENT
DTSTART;VALUE=DATE:20221005
DTEND;VALUE=DATE:20221006
DTSTAMP:20260422T110636
CREATED:20221005T182425Z
LAST-MODIFIED:20221005T182425Z
UID:4146-1664928000-1665014399@otrkidz.com
SUMMARY:First day of OTR Coat Drive - collecting new coats\, hats\, scarves and gloves to benefit Greater Life of Newark
DESCRIPTION:
URL:https://otrkidz.com/event/first-day-of-otr-coat-drive-collecting-new-coats-hats-scarves-and-gloves-to-benefit-greater-life-of-newark/
END:VEVENT
END:VCALENDAR