BEGIN:VCALENDAR
VERSION:2.0
PRODID:-// - ECPv6.15.20//NONSGML v1.0//EN
CALSCALE:GREGORIAN
METHOD:PUBLISH
X-ORIGINAL-URL:https://otrkidz.com
X-WR-CALDESC:Events for 
REFRESH-INTERVAL;VALUE=DURATION:PT1H
X-Robots-Tag:noindex
X-PUBLISHED-TTL:PT1H
BEGIN:VTIMEZONE
TZID:UTC
BEGIN:STANDARD
TZOFFSETFROM:+0000
TZOFFSETTO:+0000
TZNAME:UTC
DTSTART:20210101T000000
END:STANDARD
END:VTIMEZONE
BEGIN:VEVENT
DTSTART;VALUE=DATE:20220422
DTEND;VALUE=DATE:20220423
DTSTAMP:20260422T122746
CREATED:20220408T195346Z
LAST-MODIFIED:20220408T195346Z
UID:3891-1650585600-1650671999@otrkidz.com
SUMMARY:Bring A Bike Day
DESCRIPTION:
URL:https://otrkidz.com/event/bring-a-bike-day-4/
END:VEVENT
BEGIN:VEVENT
DTSTART;VALUE=DATE:20220422
DTEND;VALUE=DATE:20220423
DTSTAMP:20260422T122746
CREATED:20220408T195413Z
LAST-MODIFIED:20220408T195413Z
UID:3893-1650585600-1650671999@otrkidz.com
SUMMARY:Earth Day Celebration
DESCRIPTION:
URL:https://otrkidz.com/event/earth-day-celebration-6/
END:VEVENT
END:VCALENDAR