BEGIN:VCALENDAR
VERSION:2.0
PRODID:-// - ECPv6.15.20//NONSGML v1.0//EN
CALSCALE:GREGORIAN
METHOD:PUBLISH
X-ORIGINAL-URL:https://otrkidz.com
X-WR-CALDESC:Events for 
REFRESH-INTERVAL;VALUE=DURATION:PT1H
X-Robots-Tag:noindex
X-PUBLISHED-TTL:PT1H
BEGIN:VTIMEZONE
TZID:UTC
BEGIN:STANDARD
TZOFFSETFROM:+0000
TZOFFSETTO:+0000
TZNAME:UTC
DTSTART:20210101T000000
END:STANDARD
END:VTIMEZONE
BEGIN:VEVENT
DTSTART;VALUE=DATE:20220404
DTEND;VALUE=DATE:20220409
DTSTAMP:20260422T122654
CREATED:20220408T194844Z
LAST-MODIFIED:20220408T194844Z
UID:3863-1649030400-1649462399@otrkidz.com
SUMMARY:Week of the Young Child
DESCRIPTION:
URL:https://otrkidz.com/event/week-of-the-young-child-3/
END:VEVENT
BEGIN:VEVENT
DTSTART;VALUE=DATE:20220405
DTEND;VALUE=DATE:20220406
DTSTAMP:20260422T122654
CREATED:20220408T194924Z
LAST-MODIFIED:20220408T194924Z
UID:3867-1649116800-1649203199@otrkidz.com
SUMMARY:Tasty Tuesday
DESCRIPTION:
URL:https://otrkidz.com/event/tasty-tuesday/
END:VEVENT
END:VCALENDAR