BEGIN:VCALENDAR
VERSION:2.0
PRODID:-// - ECPv6.15.20//NONSGML v1.0//EN
CALSCALE:GREGORIAN
METHOD:PUBLISH
X-ORIGINAL-URL:https://otrkidz.com
X-WR-CALDESC:Events for 
REFRESH-INTERVAL;VALUE=DURATION:PT1H
X-Robots-Tag:noindex
X-PUBLISHED-TTL:PT1H
BEGIN:VTIMEZONE
TZID:UTC
BEGIN:STANDARD
TZOFFSETFROM:+0000
TZOFFSETTO:+0000
TZNAME:UTC
DTSTART:20210101T000000
END:STANDARD
END:VTIMEZONE
BEGIN:VEVENT
DTSTART;VALUE=DATE:20220124
DTEND;VALUE=DATE:20220125
DTSTAMP:20260422T164244
CREATED:20220108T050005Z
LAST-MODIFIED:20220108T050005Z
UID:3803-1642982400-1643068799@otrkidz.com
SUMMARY:Preschool Program Units and Themes for the Week
DESCRIPTION:★ K\,k \n★ Meet the Artist \n★ Nursery Rhymes \n★ Recycle
URL:https://otrkidz.com/event/preschool-program-units-and-themes-for-the-week-14/
CATEGORIES:Units and Themes
END:VEVENT
BEGIN:VEVENT
DTSTART;VALUE=DATE:20220124
DTEND;VALUE=DATE:20220125
DTSTAMP:20260422T164244
CREATED:20220108T050045Z
LAST-MODIFIED:20220108T050045Z
UID:3805-1642982400-1643068799@otrkidz.com
SUMMARY:Snuggle Program Units and Themes for the Week
DESCRIPTION:★ Meet the Artist \n★ Nursery Rhymes \n★ Recycle
URL:https://otrkidz.com/event/snuggle-program-units-and-themes-for-the-week-14/
CATEGORIES:Units and Themes
END:VEVENT
END:VCALENDAR