BEGIN:VCALENDAR
VERSION:2.0
PRODID:-// - ECPv6.15.20//NONSGML v1.0//EN
CALSCALE:GREGORIAN
METHOD:PUBLISH
X-ORIGINAL-URL:https://otrkidz.com
X-WR-CALDESC:Events for 
REFRESH-INTERVAL;VALUE=DURATION:PT1H
X-Robots-Tag:noindex
X-PUBLISHED-TTL:PT1H
BEGIN:VTIMEZONE
TZID:UTC
BEGIN:STANDARD
TZOFFSETFROM:+0000
TZOFFSETTO:+0000
TZNAME:UTC
DTSTART:20200101T000000
END:STANDARD
END:VTIMEZONE
BEGIN:VEVENT
DTSTART;VALUE=DATE:20211201
DTEND;VALUE=DATE:20211211
DTSTAMP:20260422T193459
CREATED:20211204T035944Z
LAST-MODIFIED:20211204T035944Z
UID:3738-1638316800-1639180799@otrkidz.com
SUMMARY:Toy Drive
DESCRIPTION:
URL:https://otrkidz.com/event/toy-drive/
END:VEVENT
BEGIN:VEVENT
DTSTART;VALUE=DATE:20211206
DTEND;VALUE=DATE:20211216
DTSTAMP:20260422T193459
CREATED:20211204T040410Z
LAST-MODIFIED:20211204T040410Z
UID:3744-1638748800-1639612799@otrkidz.com
SUMMARY:Food Drive
DESCRIPTION:
URL:https://otrkidz.com/event/food-drive/
END:VEVENT
BEGIN:VEVENT
DTSTART;VALUE=DATE:20211209
DTEND;VALUE=DATE:20211210
DTSTAMP:20260422T193459
CREATED:20211204T041242Z
LAST-MODIFIED:20211204T041242Z
UID:3773-1639008000-1639094399@otrkidz.com
SUMMARY:Las Posadas Party - Nachos and Salsa
DESCRIPTION:Feliz Navidad
URL:https://otrkidz.com/event/las-posadas-party-nachos-and-salsa-3/
END:VEVENT
BEGIN:VEVENT
DTSTART;VALUE=DATE:20211209
DTEND;VALUE=DATE:20211210
DTSTAMP:20260422T193459
CREATED:20211204T041330Z
LAST-MODIFIED:20211204T041330Z
UID:3777-1639008000-1639094399@otrkidz.com
SUMMARY:National Poinsettia Day (12/12)
DESCRIPTION:
URL:https://otrkidz.com/event/national-poinsettia-day-12-12/
END:VEVENT
END:VCALENDAR