BEGIN:VCALENDAR
VERSION:2.0
PRODID:-// - ECPv6.15.20//NONSGML v1.0//EN
CALSCALE:GREGORIAN
METHOD:PUBLISH
X-ORIGINAL-URL:https://otrkidz.com
X-WR-CALDESC:Events for 
REFRESH-INTERVAL;VALUE=DURATION:PT1H
X-Robots-Tag:noindex
X-PUBLISHED-TTL:PT1H
BEGIN:VTIMEZONE
TZID:UTC
BEGIN:STANDARD
TZOFFSETFROM:+0000
TZOFFSETTO:+0000
TZNAME:UTC
DTSTART:20200101T000000
END:STANDARD
END:VTIMEZONE
BEGIN:VEVENT
DTSTART;VALUE=DATE:20211125
DTEND;VALUE=DATE:20211127
DTSTAMP:20260422T205504
CREATED:20211116T041026Z
LAST-MODIFIED:20211116T041026Z
UID:3679-1637798400-1637971199@otrkidz.com
SUMMARY:Thanksgiving Holiday (school closed 11/25-11/26)
DESCRIPTION:
URL:https://otrkidz.com/event/thanksgiving-holiday-school-closed-11-25-11-26/
END:VEVENT
END:VCALENDAR