BEGIN:VCALENDAR
VERSION:2.0
PRODID:-// - ECPv6.15.20//NONSGML v1.0//EN
CALSCALE:GREGORIAN
METHOD:PUBLISH
X-ORIGINAL-URL:https://otrkidz.com
X-WR-CALDESC:Events for 
REFRESH-INTERVAL;VALUE=DURATION:PT1H
X-Robots-Tag:noindex
X-PUBLISHED-TTL:PT1H
BEGIN:VTIMEZONE
TZID:UTC
BEGIN:STANDARD
TZOFFSETFROM:+0000
TZOFFSETTO:+0000
TZNAME:UTC
DTSTART:20200101T000000
END:STANDARD
END:VTIMEZONE
BEGIN:VEVENT
DTSTART;VALUE=DATE:20210426
DTEND;VALUE=DATE:20210427
DTSTAMP:20260423T045732
CREATED:20210401T002002Z
LAST-MODIFIED:20210401T002002Z
UID:3505-1619395200-1619481599@otrkidz.com
SUMMARY:Preschool Program Units and Themes for the Week
DESCRIPTION:★ Letters – Uu \n★ Gardening \n★ Seed Planting \n★ National Arbor Day \n★ NWF Schoolyard Habitat Party
URL:https://otrkidz.com/event/preschool-program-units-and-themes-for-the-week-10/
CATEGORIES:Units and Themes
END:VEVENT
BEGIN:VEVENT
DTSTART;VALUE=DATE:20210426
DTEND;VALUE=DATE:20210427
DTSTAMP:20260423T045732
CREATED:20210401T002052Z
LAST-MODIFIED:20210401T002052Z
UID:3507-1619395200-1619481599@otrkidz.com
SUMMARY:Snuggle Program Units and Themes for the Week
DESCRIPTION:★ Gardening \n★ Seed Planting \n★ National Arbor Day \n★ NWF Schoolyard Habitat Party
URL:https://otrkidz.com/event/snuggle-program-units-and-themes-for-the-week-10/
CATEGORIES:Units and Themes
END:VEVENT
END:VCALENDAR