BEGIN:VCALENDAR
VERSION:2.0
PRODID:-// - ECPv6.15.20//NONSGML v1.0//EN
CALSCALE:GREGORIAN
METHOD:PUBLISH
X-ORIGINAL-URL:https://otrkidz.com
X-WR-CALDESC:Events for 
REFRESH-INTERVAL;VALUE=DURATION:PT1H
X-Robots-Tag:noindex
X-PUBLISHED-TTL:PT1H
BEGIN:VTIMEZONE
TZID:UTC
BEGIN:STANDARD
TZOFFSETFROM:+0000
TZOFFSETTO:+0000
TZNAME:UTC
DTSTART:20200101T000000
END:STANDARD
END:VTIMEZONE
BEGIN:VEVENT
DTSTART;VALUE=DATE:20210301
DTEND;VALUE=DATE:20210302
DTSTAMP:20260421T210226
CREATED:20210306T034853Z
LAST-MODIFIED:20210306T035010Z
UID:3434-1614556800-1614643199@otrkidz.com
SUMMARY:Preschool Program Units and Themes for the Week
DESCRIPTION:★ Introduce Crazy March \n★ Dr. Seuss’ Birthday \n★ Wind \n★ Diamond
URL:https://otrkidz.com/event/preschool-program-units-and-themes-for-the-week/
CATEGORIES:Units and Themes
END:VEVENT
BEGIN:VEVENT
DTSTART;VALUE=DATE:20210301
DTEND;VALUE=DATE:20210302
DTSTAMP:20260421T210226
CREATED:20210306T034945Z
LAST-MODIFIED:20210306T034945Z
UID:3436-1614556800-1614643199@otrkidz.com
SUMMARY:Snuggle Program Units and Themes for the Week
DESCRIPTION:★ Introduce Crazy March \n★ Dr. Seuss’ Birthday \n★ Wind \n★ Diamond
URL:https://otrkidz.com/event/snuggle-program-units-and-themes-for-the-week/
CATEGORIES:Units and Themes
END:VEVENT
BEGIN:VEVENT
DTSTART;VALUE=DATE:20210301
DTEND;VALUE=DATE:20210302
DTSTAMP:20260421T210226
CREATED:20210306T040026Z
LAST-MODIFIED:20210306T040026Z
UID:3455-1614556800-1614643199@otrkidz.com
SUMMARY:Fox In Sox: wear some mix-matched socks!
DESCRIPTION:
URL:https://otrkidz.com/event/fox-in-sox-wear-some-mix-matched-socks/
END:VEVENT
END:VCALENDAR