BEGIN:VCALENDAR
VERSION:2.0
PRODID:-// - ECPv6.15.20//NONSGML v1.0//EN
CALSCALE:GREGORIAN
METHOD:PUBLISH
X-ORIGINAL-URL:https://otrkidz.com
X-WR-CALDESC:Events for 
REFRESH-INTERVAL;VALUE=DURATION:PT1H
X-Robots-Tag:noindex
X-PUBLISHED-TTL:PT1H
BEGIN:VTIMEZONE
TZID:UTC
BEGIN:STANDARD
TZOFFSETFROM:+0000
TZOFFSETTO:+0000
TZNAME:UTC
DTSTART:20190101T000000
END:STANDARD
END:VTIMEZONE
BEGIN:VEVENT
DTSTART;VALUE=DATE:20201226
DTEND;VALUE=DATE:20210104
DTSTAMP:20260421T144041
CREATED:20201211T050232Z
LAST-MODIFIED:20201211T050232Z
UID:3324-1608940800-1609718399@otrkidz.com
SUMMARY:Winter Break\, School Closed
DESCRIPTION:
URL:https://otrkidz.com/event/winter-break-school-closed-6/
END:VEVENT
END:VCALENDAR