BEGIN:VCALENDAR
VERSION:2.0
PRODID:-// - ECPv6.15.20//NONSGML v1.0//EN
CALSCALE:GREGORIAN
METHOD:PUBLISH
X-ORIGINAL-URL:https://otrkidz.com
X-WR-CALDESC:Events for 
REFRESH-INTERVAL;VALUE=DURATION:PT1H
X-Robots-Tag:noindex
X-PUBLISHED-TTL:PT1H
BEGIN:VTIMEZONE
TZID:UTC
BEGIN:STANDARD
TZOFFSETFROM:+0000
TZOFFSETTO:+0000
TZNAME:UTC
DTSTART:20190101T000000
END:STANDARD
END:VTIMEZONE
BEGIN:VEVENT
DTSTART;VALUE=DATE:20201130
DTEND;VALUE=DATE:20201201
DTSTAMP:20260421T131215
CREATED:20201104T043310Z
LAST-MODIFIED:20201104T043310Z
UID:3159-1606694400-1606780799@otrkidz.com
SUMMARY:Preschool Program Units and Themes
DESCRIPTION:★ Nursery Rhymes \n★ Recycle \n★ Musical Instruments
URL:https://otrkidz.com/event/preschool-program-units-and-themes-18/
CATEGORIES:Units and Themes
END:VEVENT
BEGIN:VEVENT
DTSTART;VALUE=DATE:20201130
DTEND;VALUE=DATE:20201201
DTSTAMP:20260421T131215
CREATED:20201104T043409Z
LAST-MODIFIED:20201104T043409Z
UID:3161-1606694400-1606780799@otrkidz.com
SUMMARY:Snuggle Program Units and Themes
DESCRIPTION:★ Nursery Rhymes \n★ Recycle \n★ Musical Instruments
URL:https://otrkidz.com/event/snuggle-program-units-and-themes-19/
CATEGORIES:Units and Themes
END:VEVENT
BEGIN:VEVENT
DTSTART;VALUE=DATE:20201130
DTEND;VALUE=DATE:20201201
DTSTAMP:20260421T131215
CREATED:20201211T045133Z
LAST-MODIFIED:20201211T045133Z
UID:3283-1606694400-1606780799@otrkidz.com
SUMMARY:Around the World - Children
DESCRIPTION:
URL:https://otrkidz.com/event/around-the-world-children/
END:VEVENT
END:VCALENDAR