BEGIN:VCALENDAR
VERSION:2.0
PRODID:-// - ECPv6.15.20//NONSGML v1.0//EN
CALSCALE:GREGORIAN
METHOD:PUBLISH
X-ORIGINAL-URL:https://otrkidz.com
X-WR-CALDESC:Events for 
REFRESH-INTERVAL;VALUE=DURATION:PT1H
X-Robots-Tag:noindex
X-PUBLISHED-TTL:PT1H
BEGIN:VTIMEZONE
TZID:UTC
BEGIN:STANDARD
TZOFFSETFROM:+0000
TZOFFSETTO:+0000
TZNAME:UTC
DTSTART:20190101T000000
END:STANDARD
END:VTIMEZONE
BEGIN:VEVENT
DTSTART;VALUE=DATE:20200929
DTEND;VALUE=DATE:20200930
DTSTAMP:20260421T094943
CREATED:20200828T232749Z
LAST-MODIFIED:20200828T232749Z
UID:3073-1601337600-1601423999@otrkidz.com
SUMMARY:Preschool Program Units and Themes
DESCRIPTION:★ Recycle \n★ Gardening Bulbs
URL:https://otrkidz.com/event/preschool-program-units-and-themes-9/
CATEGORIES:Units and Themes
END:VEVENT
BEGIN:VEVENT
DTSTART;VALUE=DATE:20200929
DTEND;VALUE=DATE:20200930
DTSTAMP:20260421T094943
CREATED:20200828T232814Z
LAST-MODIFIED:20201005T195402Z
UID:3075-1601337600-1601423999@otrkidz.com
SUMMARY:Snuggle Program Units and Themes
DESCRIPTION:★ Recycle \n★ Gardening Bulbs
URL:https://otrkidz.com/event/snuggle-program-units-and-themes-10/
CATEGORIES:Units and Themes
END:VEVENT
BEGIN:VEVENT
DTSTART;VALUE=DATE:20200929
DTEND;VALUE=DATE:20200930
DTSTAMP:20260421T094943
CREATED:20200828T234156Z
LAST-MODIFIED:20200828T234156Z
UID:3095-1601337600-1601423999@otrkidz.com
SUMMARY:Plant Bulbs
DESCRIPTION:
URL:https://otrkidz.com/event/plant-bulbs-2/
END:VEVENT
END:VCALENDAR