BEGIN:VCALENDAR
VERSION:2.0
PRODID:-// - ECPv6.15.20//NONSGML v1.0//EN
CALSCALE:GREGORIAN
METHOD:PUBLISH
X-ORIGINAL-URL:https://otrkidz.com
X-WR-CALDESC:Events for 
REFRESH-INTERVAL;VALUE=DURATION:PT1H
X-Robots-Tag:noindex
X-PUBLISHED-TTL:PT1H
BEGIN:VTIMEZONE
TZID:UTC
BEGIN:STANDARD
TZOFFSETFROM:+0000
TZOFFSETTO:+0000
TZNAME:UTC
DTSTART:20190101T000000
END:STANDARD
END:VTIMEZONE
BEGIN:VEVENT
DTSTART;VALUE=DATE:20200525
DTEND;VALUE=DATE:20200526
DTSTAMP:20260421T161733
CREATED:20200505T213709Z
LAST-MODIFIED:20200505T213709Z
UID:2990-1590364800-1590451199@otrkidz.com
SUMMARY:Preschool Program Units and Themes
DESCRIPTION:★ Amphibians \n★ Recycle \n★ #9 \n★ Our Favorite Books
URL:https://otrkidz.com/event/preschool-program-units-and-themes-5/
CATEGORIES:Units and Themes
END:VEVENT
BEGIN:VEVENT
DTSTART;VALUE=DATE:20200525
DTEND;VALUE=DATE:20200526
DTSTAMP:20260421T161733
CREATED:20200505T213751Z
LAST-MODIFIED:20200505T213751Z
UID:2992-1590364800-1590451199@otrkidz.com
SUMMARY:Snuggle Program Units and Themes
DESCRIPTION:★ Amphibians \n★ Recycle \n★ Our Favorite Books
URL:https://otrkidz.com/event/snuggle-program-units-and-themes-5/
CATEGORIES:Units and Themes
END:VEVENT
BEGIN:VEVENT
DTSTART;VALUE=DATE:20200525
DTEND;VALUE=DATE:20200526
DTSTAMP:20260421T161733
CREATED:20200505T215543Z
LAST-MODIFIED:20200505T215543Z
UID:3036-1590364800-1590451199@otrkidz.com
SUMMARY:Memorial Day Observed
DESCRIPTION:
URL:https://otrkidz.com/event/memorial-day-observed/
END:VEVENT
END:VCALENDAR