BEGIN:VCALENDAR
VERSION:2.0
PRODID:-// - ECPv6.15.20//NONSGML v1.0//EN
CALSCALE:GREGORIAN
METHOD:PUBLISH
X-ORIGINAL-URL:https://otrkidz.com
X-WR-CALDESC:Events for 
REFRESH-INTERVAL;VALUE=DURATION:PT1H
X-Robots-Tag:noindex
X-PUBLISHED-TTL:PT1H
BEGIN:VTIMEZONE
TZID:UTC
BEGIN:STANDARD
TZOFFSETFROM:+0000
TZOFFSETTO:+0000
TZNAME:UTC
DTSTART:20190101T000000
END:STANDARD
END:VTIMEZONE
BEGIN:VEVENT
DTSTART;VALUE=DATE:20200519
DTEND;VALUE=DATE:20200520
DTSTAMP:20260421T160941
CREATED:20200505T215337Z
LAST-MODIFIED:20200505T215337Z
UID:3026-1589846400-1589932799@otrkidz.com
SUMMARY:Celebrate International Dinosaur Day: wear or bring something dinosaur related
DESCRIPTION:
URL:https://otrkidz.com/event/celebrate-international-dinosaur-day-wear-or-bring-something-dinosaur-related/
END:VEVENT
BEGIN:VEVENT
DTSTART;VALUE=DATE:20200519
DTEND;VALUE=DATE:20200520
DTSTAMP:20260421T160941
CREATED:20200505T215402Z
LAST-MODIFIED:20200505T215402Z
UID:3028-1589846400-1589932799@otrkidz.com
SUMMARY:Happy Birthday: Ms. Christelle
DESCRIPTION:
URL:https://otrkidz.com/event/happy-birthday-ms-christelle/
END:VEVENT
END:VCALENDAR