BEGIN:VCALENDAR
VERSION:2.0
PRODID:-// - ECPv6.15.20//NONSGML v1.0//EN
CALSCALE:GREGORIAN
METHOD:PUBLISH
X-ORIGINAL-URL:https://otrkidz.com
X-WR-CALDESC:Events for 
REFRESH-INTERVAL;VALUE=DURATION:PT1H
X-Robots-Tag:noindex
X-PUBLISHED-TTL:PT1H
BEGIN:VTIMEZONE
TZID:UTC
BEGIN:STANDARD
TZOFFSETFROM:+0000
TZOFFSETTO:+0000
TZNAME:UTC
DTSTART:20190101T000000
END:STANDARD
END:VTIMEZONE
BEGIN:VEVENT
DTSTART;VALUE=DATE:20200515
DTEND;VALUE=DATE:20200516
DTSTAMP:20260421T161033
CREATED:20200505T215203Z
LAST-MODIFIED:20200505T215203Z
UID:3020-1589500800-1589587199@otrkidz.com
SUMMARY:Website Reminder: https://adventuresinfamilyhood.com/20-virtual-field-trips-to-take-with-your-kids.html
DESCRIPTION:
URL:https://otrkidz.com/event/website-reminder-https-adventuresinfamilyhood-com-20-virtual-field-trips-to-take-with-your-kids-html/
END:VEVENT
END:VCALENDAR