BEGIN:VCALENDAR
VERSION:2.0
PRODID:-// - ECPv6.15.20//NONSGML v1.0//EN
CALSCALE:GREGORIAN
METHOD:PUBLISH
X-ORIGINAL-URL:https://otrkidz.com
X-WR-CALDESC:Events for 
REFRESH-INTERVAL;VALUE=DURATION:PT1H
X-Robots-Tag:noindex
X-PUBLISHED-TTL:PT1H
BEGIN:VTIMEZONE
TZID:UTC
BEGIN:STANDARD
TZOFFSETFROM:+0000
TZOFFSETTO:+0000
TZNAME:UTC
DTSTART:20190101T000000
END:STANDARD
END:VTIMEZONE
BEGIN:VEVENT
DTSTART;VALUE=DATE:20200511
DTEND;VALUE=DATE:20200512
DTSTAMP:20260421T161732
CREATED:20200505T213333Z
LAST-MODIFIED:20200505T213333Z
UID:2982-1589155200-1589241599@otrkidz.com
SUMMARY:Preschool Program Units and Themes
DESCRIPTION:★ Soil and Rocks \n★ Birds \n★ Vv
URL:https://otrkidz.com/event/preschool-program-units-and-themes-3/
CATEGORIES:Units and Themes
END:VEVENT
BEGIN:VEVENT
DTSTART;VALUE=DATE:20200511
DTEND;VALUE=DATE:20200512
DTSTAMP:20260421T161732
CREATED:20200505T213415Z
LAST-MODIFIED:20200505T213415Z
UID:2984-1589155200-1589241599@otrkidz.com
SUMMARY:Snuggle Program Units and Themes
DESCRIPTION:★ Soil and Rocks \n★ Birds \n★ Raffi
URL:https://otrkidz.com/event/snuggle-program-units-and-themes-3/
CATEGORIES:Units and Themes
END:VEVENT
BEGIN:VEVENT
DTSTART;VALUE=DATE:20200511
DTEND;VALUE=DATE:20200512
DTSTAMP:20260421T161732
CREATED:20200505T214650Z
LAST-MODIFIED:20200505T214650Z
UID:3010-1589155200-1589241599@otrkidz.com
SUMMARY:Website reminder: https://kids.nationalgeographic.com
DESCRIPTION:
URL:https://otrkidz.com/event/website-reminder-https-kids-nationalgeographic-com/
END:VEVENT
END:VCALENDAR