BEGIN:VCALENDAR
VERSION:2.0
PRODID:-// - ECPv6.15.20//NONSGML v1.0//EN
CALSCALE:GREGORIAN
METHOD:PUBLISH
X-ORIGINAL-URL:https://otrkidz.com
X-WR-CALDESC:Events for 
REFRESH-INTERVAL;VALUE=DURATION:PT1H
X-Robots-Tag:noindex
X-PUBLISHED-TTL:PT1H
BEGIN:VTIMEZONE
TZID:UTC
BEGIN:STANDARD
TZOFFSETFROM:+0000
TZOFFSETTO:+0000
TZNAME:UTC
DTSTART:20190101T000000
END:STANDARD
END:VTIMEZONE
BEGIN:VEVENT
DTSTART;VALUE=DATE:20200330
DTEND;VALUE=DATE:20200331
DTSTAMP:20260421T175135
CREATED:20200301T043418Z
LAST-MODIFIED:20200301T043418Z
UID:2932-1585526400-1585612799@otrkidz.com
SUMMARY:Preschool Program Units for the Week
DESCRIPTION:★ Bike-a-thon \n★ Rain and Water Cycle
URL:https://otrkidz.com/event/preschool-program-units-for-the-week-5/
CATEGORIES:Units and Themes
END:VEVENT
BEGIN:VEVENT
DTSTART;VALUE=DATE:20200330
DTEND;VALUE=DATE:20200331
DTSTAMP:20260421T175135
CREATED:20200301T043506Z
LAST-MODIFIED:20200301T043506Z
UID:2934-1585526400-1585612799@otrkidz.com
SUMMARY:Snuggle Program Units for the Week
DESCRIPTION:★ Umbrella\, Rain \n★ Water / Puddles
URL:https://otrkidz.com/event/snuggle-program-units-for-the-week-5/
CATEGORIES:Units and Themes
END:VEVENT
BEGIN:VEVENT
DTSTART;VALUE=DATE:20200330
DTEND;VALUE=DATE:20200331
DTSTAMP:20260421T175135
CREATED:20200301T044143Z
LAST-MODIFIED:20200301T044143Z
UID:2960-1585526400-1585612799@otrkidz.com
SUMMARY:Bikewell Bear - Lesson 1
DESCRIPTION:
URL:https://otrkidz.com/event/bikewell-bear-lesson-1-3/
END:VEVENT
END:VCALENDAR