BEGIN:VCALENDAR
VERSION:2.0
PRODID:-// - ECPv6.15.20//NONSGML v1.0//EN
CALSCALE:GREGORIAN
METHOD:PUBLISH
X-ORIGINAL-URL:https://otrkidz.com
X-WR-CALDESC:Events for 
REFRESH-INTERVAL;VALUE=DURATION:PT1H
X-Robots-Tag:noindex
X-PUBLISHED-TTL:PT1H
BEGIN:VTIMEZONE
TZID:UTC
BEGIN:STANDARD
TZOFFSETFROM:+0000
TZOFFSETTO:+0000
TZNAME:UTC
DTSTART:20190101T000000
END:STANDARD
END:VTIMEZONE
BEGIN:VEVENT
DTSTART;VALUE=DATE:20200323
DTEND;VALUE=DATE:20200324
DTSTAMP:20260421T192530
CREATED:20200301T043222Z
LAST-MODIFIED:20200301T043222Z
UID:2928-1584921600-1585007999@otrkidz.com
SUMMARY:Preschool Program Units for the Week
DESCRIPTION:★ Qq \n★ #7 \n★ Nursery Rhymes \n★ Recycle
URL:https://otrkidz.com/event/preschool-program-units-for-the-week-4/
CATEGORIES:Units and Themes
END:VEVENT
BEGIN:VEVENT
DTSTART;VALUE=DATE:20200323
DTEND;VALUE=DATE:20200324
DTSTAMP:20260421T192530
CREATED:20200301T043328Z
LAST-MODIFIED:20200301T043328Z
UID:2930-1584921600-1585007999@otrkidz.com
SUMMARY:Snuggle Program Units for the Week
DESCRIPTION:★ #7 \n★ Nursery Rhymes \n★ Recycle Activities \n★ Bear Wakes Up
URL:https://otrkidz.com/event/snuggle-program-units-for-the-week-4/
CATEGORIES:Units and Themes
END:VEVENT
END:VCALENDAR