BEGIN:VCALENDAR
VERSION:2.0
PRODID:-// - ECPv6.15.20//NONSGML v1.0//EN
CALSCALE:GREGORIAN
METHOD:PUBLISH
X-ORIGINAL-URL:https://otrkidz.com
X-WR-CALDESC:Events for 
REFRESH-INTERVAL;VALUE=DURATION:PT1H
X-Robots-Tag:noindex
X-PUBLISHED-TTL:PT1H
BEGIN:VTIMEZONE
TZID:UTC
BEGIN:STANDARD
TZOFFSETFROM:+0000
TZOFFSETTO:+0000
TZNAME:UTC
DTSTART:20190101T000000
END:STANDARD
END:VTIMEZONE
BEGIN:VEVENT
DTSTART;VALUE=DATE:20200310
DTEND;VALUE=DATE:20200311
DTSTAMP:20260421T192442
CREATED:20200301T043839Z
LAST-MODIFIED:20200301T043839Z
UID:2948-1583798400-1583884799@otrkidz.com
SUMMARY:P Day: PJ Party with Pancakes; Wear your favorite PJs
DESCRIPTION:
URL:https://otrkidz.com/event/p-day-pj-party-with-pancakes-wear-your-favorite-pjs-3/
END:VEVENT
END:VCALENDAR