BEGIN:VCALENDAR
VERSION:2.0
PRODID:-// - ECPv6.15.20//NONSGML v1.0//EN
CALSCALE:GREGORIAN
METHOD:PUBLISH
X-ORIGINAL-URL:https://otrkidz.com
X-WR-CALDESC:Events for 
REFRESH-INTERVAL;VALUE=DURATION:PT1H
X-Robots-Tag:noindex
X-PUBLISHED-TTL:PT1H
BEGIN:VTIMEZONE
TZID:UTC
BEGIN:STANDARD
TZOFFSETFROM:+0000
TZOFFSETTO:+0000
TZNAME:UTC
DTSTART:20190101T000000
END:STANDARD
END:VTIMEZONE
BEGIN:VEVENT
DTSTART;VALUE=DATE:20200309
DTEND;VALUE=DATE:20200310
DTSTAMP:20260421T192528
CREATED:20200301T042742Z
LAST-MODIFIED:20200301T042742Z
UID:2920-1583712000-1583798399@otrkidz.com
SUMMARY:Preschool Program Units for the Week
DESCRIPTION:★ Pp / Pajama Party \n★ Transportation \n★ Diamond \n★ Green
URL:https://otrkidz.com/event/preschool-program-units-for-the-week-2/
CATEGORIES:Units and Themes
END:VEVENT
BEGIN:VEVENT
DTSTART;VALUE=DATE:20200309
DTEND;VALUE=DATE:20200310
DTSTAMP:20260421T192528
CREATED:20200301T042917Z
LAST-MODIFIED:20200301T042917Z
UID:2922-1583712000-1583798399@otrkidz.com
SUMMARY:Snuggle Program Units for the Week
DESCRIPTION:★ Pajama Party \n★ Transportation – wheels that go! \n★ “Riding In My Car Seat” \n★ Green
URL:https://otrkidz.com/event/snuggle-program-units-for-the-week-2/
CATEGORIES:Units and Themes
END:VEVENT
END:VCALENDAR