BEGIN:VCALENDAR
VERSION:2.0
PRODID:-// - ECPv6.15.20//NONSGML v1.0//EN
CALSCALE:GREGORIAN
METHOD:PUBLISH
X-ORIGINAL-URL:https://otrkidz.com
X-WR-CALDESC:Events for 
REFRESH-INTERVAL;VALUE=DURATION:PT1H
X-Robots-Tag:noindex
X-PUBLISHED-TTL:PT1H
BEGIN:VTIMEZONE
TZID:UTC
BEGIN:STANDARD
TZOFFSETFROM:+0000
TZOFFSETTO:+0000
TZNAME:UTC
DTSTART:20190101T000000
END:STANDARD
END:VTIMEZONE
BEGIN:VEVENT
DTSTART;VALUE=DATE:20200303
DTEND;VALUE=DATE:20200304
DTSTAMP:20260421T192529
CREATED:20200301T043621Z
LAST-MODIFIED:20200301T043621Z
UID:2938-1583193600-1583279999@otrkidz.com
SUMMARY:Spring Photos: Snuggle Program and Siblings
DESCRIPTION:
URL:https://otrkidz.com/event/spring-photos-snuggle-program-and-siblings/
END:VEVENT
END:VCALENDAR