BEGIN:VCALENDAR
VERSION:2.0
PRODID:-// - ECPv6.15.20//NONSGML v1.0//EN
CALSCALE:GREGORIAN
METHOD:PUBLISH
X-ORIGINAL-URL:https://otrkidz.com
X-WR-CALDESC:Events for 
REFRESH-INTERVAL;VALUE=DURATION:PT1H
X-Robots-Tag:noindex
X-PUBLISHED-TTL:PT1H
BEGIN:VTIMEZONE
TZID:UTC
BEGIN:STANDARD
TZOFFSETFROM:+0000
TZOFFSETTO:+0000
TZNAME:UTC
DTSTART:20190101T000000
END:STANDARD
END:VTIMEZONE
BEGIN:VEVENT
DTSTART;VALUE=DATE:20200302
DTEND;VALUE=DATE:20200303
DTSTAMP:20260421T192611
CREATED:20200301T042431Z
LAST-MODIFIED:20200301T042503Z
UID:2916-1583107200-1583193599@otrkidz.com
SUMMARY:Preschool Program Units for the Week
DESCRIPTION:★ Introduce Crazy March \n★ Dr. Seuss’ Birthday \n★ Wind \n★ Oo
URL:https://otrkidz.com/event/preschool-program-units-for-the-week/
CATEGORIES:Units and Themes
END:VEVENT
BEGIN:VEVENT
DTSTART;VALUE=DATE:20200302
DTEND;VALUE=DATE:20200303
DTSTAMP:20260421T192611
CREATED:20200301T042616Z
LAST-MODIFIED:20200301T042616Z
UID:2918-1583107200-1583193599@otrkidz.com
SUMMARY:Snuggle Program Units for the Week
DESCRIPTION:★ Introduce Crazy March \n★ Dr. Seuss’ Birthday \n★ Wind \n★ Raffi Songs \n★ Diamond
URL:https://otrkidz.com/event/snuggle-program-units-for-the-week/
CATEGORIES:Units and Themes
END:VEVENT
BEGIN:VEVENT
DTSTART;VALUE=DATE:20200302
DTEND;VALUE=DATE:20200303
DTSTAMP:20260421T192611
CREATED:20200301T043549Z
LAST-MODIFIED:20200301T043549Z
UID:2936-1583107200-1583193599@otrkidz.com
SUMMARY:Dr. Seuss' Birthday - Stripe Day (You Guessed it! Wear your stripes!)
DESCRIPTION:
URL:https://otrkidz.com/event/dr-seuss-birthday-stripe-day-you-guessed-it-wear-your-stripes/
END:VEVENT
END:VCALENDAR