BEGIN:VCALENDAR
VERSION:2.0
PRODID:-// - ECPv6.15.20//NONSGML v1.0//EN
CALSCALE:GREGORIAN
METHOD:PUBLISH
X-ORIGINAL-URL:https://otrkidz.com
X-WR-CALDESC:Events for 
REFRESH-INTERVAL;VALUE=DURATION:PT1H
X-Robots-Tag:noindex
X-PUBLISHED-TTL:PT1H
BEGIN:VTIMEZONE
TZID:UTC
BEGIN:STANDARD
TZOFFSETFROM:+0000
TZOFFSETTO:+0000
TZNAME:UTC
DTSTART:20190101T000000
END:STANDARD
END:VTIMEZONE
BEGIN:VEVENT
DTSTART;VALUE=DATE:20200224
DTEND;VALUE=DATE:20200225
DTSTAMP:20260421T192412
CREATED:20200207T045307Z
LAST-MODIFIED:20200207T045307Z
UID:2860-1582502400-1582588799@otrkidz.com
SUMMARY:Units and Themes for the Week
DESCRIPTION:PreSchool Program: \n★ Recycle \n★ Nn \n★ Black \n★ Nursery Rhymes \nSnuggle Program: \n★ Recycle \n★ Raffi \n★ Black \n★ Nursery Rhymes
URL:https://otrkidz.com/event/units-and-themes-for-the-week-172/
CATEGORIES:Units and Themes
END:VEVENT
BEGIN:VEVENT
DTSTART;VALUE=DATE:20200224
DTEND;VALUE=DATE:20200225
DTSTAMP:20260421T192412
CREATED:20200207T050233Z
LAST-MODIFIED:20200207T050233Z
UID:2900-1582502400-1582588799@otrkidz.com
SUMMARY:Music with Mr. Jim
DESCRIPTION:
URL:https://otrkidz.com/event/music-with-mr-jim-20/
END:VEVENT
BEGIN:VEVENT
DTSTART;VALUE=DATE:20200224
DTEND;VALUE=DATE:20200225
DTSTAMP:20260421T192412
CREATED:20200207T050252Z
LAST-MODIFIED:20200207T050252Z
UID:2902-1582502400-1582588799@otrkidz.com
SUMMARY:Spanish
DESCRIPTION:
URL:https://otrkidz.com/event/spanish-3/
END:VEVENT
END:VCALENDAR