BEGIN:VCALENDAR
VERSION:2.0
PRODID:-// - ECPv6.15.20//NONSGML v1.0//EN
CALSCALE:GREGORIAN
METHOD:PUBLISH
X-ORIGINAL-URL:https://otrkidz.com
X-WR-CALDESC:Events for 
REFRESH-INTERVAL;VALUE=DURATION:PT1H
X-Robots-Tag:noindex
X-PUBLISHED-TTL:PT1H
BEGIN:VTIMEZONE
TZID:UTC
BEGIN:STANDARD
TZOFFSETFROM:+0000
TZOFFSETTO:+0000
TZNAME:UTC
DTSTART:20190101T000000
END:STANDARD
END:VTIMEZONE
BEGIN:VEVENT
DTSTART;VALUE=DATE:20200217
DTEND;VALUE=DATE:20200218
DTSTAMP:20260421T210223
CREATED:20200207T045151Z
LAST-MODIFIED:20200207T045151Z
UID:2858-1581897600-1581983999@otrkidz.com
SUMMARY:Units and Themes for the Week
DESCRIPTION:PreSchool Program: \n★ Senses \n★ 6 \n★ Hexagon \nSnuggle Program: \n★ Senses \n★ Bears
URL:https://otrkidz.com/event/units-and-themes-for-the-week-171/
CATEGORIES:Units and Themes
END:VEVENT
BEGIN:VEVENT
DTSTART;VALUE=DATE:20200217
DTEND;VALUE=DATE:20200218
DTSTAMP:20260421T210223
CREATED:20200207T050132Z
LAST-MODIFIED:20200207T050132Z
UID:2894-1581897600-1581983999@otrkidz.com
SUMMARY:President's Day (School Closed)
DESCRIPTION:
URL:https://otrkidz.com/event/presidents-day-school-closed-5/
END:VEVENT
BEGIN:VEVENT
DTSTART;VALUE=DATE:20200217
DTEND;VALUE=DATE:20200218
DTSTAMP:20260421T210223
CREATED:20200207T050150Z
LAST-MODIFIED:20200207T050150Z
UID:2896-1581897600-1581983999@otrkidz.com
SUMMARY:GBBC
DESCRIPTION:
URL:https://otrkidz.com/event/gbbc-2/
END:VEVENT
BEGIN:VEVENT
DTSTART;VALUE=DATE:20200217
DTEND;VALUE=DATE:20200218
DTSTAMP:20260421T210223
CREATED:20200207T050214Z
LAST-MODIFIED:20200207T050214Z
UID:2898-1581897600-1581983999@otrkidz.com
SUMMARY:National Random Acts of Kindness Day
DESCRIPTION:
URL:https://otrkidz.com/event/national-random-acts-of-kindness-day/
END:VEVENT
END:VCALENDAR