BEGIN:VCALENDAR
VERSION:2.0
PRODID:-// - ECPv6.15.20//NONSGML v1.0//EN
CALSCALE:GREGORIAN
METHOD:PUBLISH
X-ORIGINAL-URL:https://otrkidz.com
X-WR-CALDESC:Events for 
REFRESH-INTERVAL;VALUE=DURATION:PT1H
X-Robots-Tag:noindex
X-PUBLISHED-TTL:PT1H
BEGIN:VTIMEZONE
TZID:UTC
BEGIN:STANDARD
TZOFFSETFROM:+0000
TZOFFSETTO:+0000
TZNAME:UTC
DTSTART:20190101T000000
END:STANDARD
END:VTIMEZONE
BEGIN:VEVENT
DTSTART;VALUE=DATE:20200213
DTEND;VALUE=DATE:20200214
DTSTAMP:20260421T210302
CREATED:20200207T045927Z
LAST-MODIFIED:20200207T045927Z
UID:2886-1581552000-1581638399@otrkidz.com
SUMMARY:Pizza Thursday
DESCRIPTION:
URL:https://otrkidz.com/event/pizza-thursday-13/
END:VEVENT
BEGIN:VEVENT
DTSTART;VALUE=DATE:20200213
DTEND;VALUE=DATE:20200214
DTSTAMP:20260421T210302
CREATED:20200207T050023Z
LAST-MODIFIED:20200207T050023Z
UID:2888-1581552000-1581638399@otrkidz.com
SUMMARY:GBBC - Great Backyard Bird Count 14 - 17\, How Many Birds Do We See?
DESCRIPTION:
URL:https://otrkidz.com/event/gbbc-great-backyard-bird-count-14-17-how-many-birds-do-we-see/
END:VEVENT
BEGIN:VEVENT
DTSTART;VALUE=DATE:20200213
DTEND;VALUE=DATE:20200214
DTSTAMP:20260421T210302
CREATED:20200207T050046Z
LAST-MODIFIED:20200207T050046Z
UID:2890-1581552000-1581638399@otrkidz.com
SUMMARY:Celebrate Valentines Day (14)
DESCRIPTION:
URL:https://otrkidz.com/event/celebrate-valentines-day-14/
END:VEVENT
END:VCALENDAR