BEGIN:VCALENDAR
VERSION:2.0
PRODID:-// - ECPv6.15.20//NONSGML v1.0//EN
CALSCALE:GREGORIAN
METHOD:PUBLISH
X-ORIGINAL-URL:https://otrkidz.com
X-WR-CALDESC:Events for 
REFRESH-INTERVAL;VALUE=DURATION:PT1H
X-Robots-Tag:noindex
X-PUBLISHED-TTL:PT1H
BEGIN:VTIMEZONE
TZID:UTC
BEGIN:STANDARD
TZOFFSETFROM:+0000
TZOFFSETTO:+0000
TZNAME:UTC
DTSTART:20190101T000000
END:STANDARD
END:VTIMEZONE
BEGIN:VEVENT
DTSTART;VALUE=DATE:20200203
DTEND;VALUE=DATE:20200204
DTSTAMP:20260421T210213
CREATED:20200207T044845Z
LAST-MODIFIED:20200207T044845Z
UID:2854-1580688000-1580774399@otrkidz.com
SUMMARY:Units and Themes for the Week
DESCRIPTION:PreSchool Program: \n★ Healthy Heart (H.H.U.) Body Unit \n★ Weather Reporters \n★ Shadows \nSnuggle Program: \n★ Healthy Heart (H.H.U.) Body Unit \n★ Ground Hogs \n★ Shadow Play
URL:https://otrkidz.com/event/units-and-themes-for-the-week-169/
CATEGORIES:Units and Themes
END:VEVENT
BEGIN:VEVENT
DTSTART;VALUE=DATE:20200203
DTEND;VALUE=DATE:20200204
DTSTAMP:20260421T210213
CREATED:20200207T045402Z
LAST-MODIFIED:20200207T045402Z
UID:2862-1580688000-1580774399@otrkidz.com
SUMMARY:Music with Mr. Jim
DESCRIPTION:
URL:https://otrkidz.com/event/music-with-mr-jim-18/
END:VEVENT
BEGIN:VEVENT
DTSTART;VALUE=DATE:20200203
DTEND;VALUE=DATE:20200204
DTSTAMP:20260421T210213
CREATED:20200207T045431Z
LAST-MODIFIED:20200207T045431Z
UID:2864-1580688000-1580774399@otrkidz.com
SUMMARY:Introduce the Body + H.H.U.
DESCRIPTION:
URL:https://otrkidz.com/event/introduce-the-body-h-h-u-2/
END:VEVENT
BEGIN:VEVENT
DTSTART;VALUE=DATE:20200203
DTEND;VALUE=DATE:20200204
DTSTAMP:20260421T210213
CREATED:20200207T045448Z
LAST-MODIFIED:20200207T045448Z
UID:2866-1580688000-1580774399@otrkidz.com
SUMMARY:Spanish
DESCRIPTION:
URL:https://otrkidz.com/event/spanish/
END:VEVENT
END:VCALENDAR