BEGIN:VCALENDAR
VERSION:2.0
PRODID:-// - ECPv6.15.20//NONSGML v1.0//EN
CALSCALE:GREGORIAN
METHOD:PUBLISH
X-ORIGINAL-URL:https://otrkidz.com
X-WR-CALDESC:Events for 
REFRESH-INTERVAL;VALUE=DURATION:PT1H
X-Robots-Tag:noindex
X-PUBLISHED-TTL:PT1H
BEGIN:VTIMEZONE
TZID:UTC
BEGIN:STANDARD
TZOFFSETFROM:+0000
TZOFFSETTO:+0000
TZNAME:UTC
DTSTART:20190101T000000
END:STANDARD
END:VTIMEZONE
BEGIN:VEVENT
DTSTART;VALUE=DATE:20200127
DTEND;VALUE=DATE:20200128
DTSTAMP:20260421T210221
CREATED:20200108T010157Z
LAST-MODIFIED:20200108T011712Z
UID:2823-1580083200-1580169599@otrkidz.com
SUMMARY:Units and Themes for the Week
DESCRIPTION:PreSchool Program: \n★ K\,k \n★ Meet the Artist \n★ Nursery Rhymes \n★ Recycle \n \n\n \nSnuggle Program: \n★ Meet the Artist \n★ Nursery Rhymes \n★ Recycle
URL:https://otrkidz.com/event/units-and-themes-for-the-week-168/
CATEGORIES:Units and Themes
END:VEVENT
BEGIN:VEVENT
DTSTART;VALUE=DATE:20200127
DTEND;VALUE=DATE:20200128
DTSTAMP:20260421T210221
CREATED:20200108T011423Z
LAST-MODIFIED:20200108T011423Z
UID:2845-1580083200-1580169599@otrkidz.com
SUMMARY:Celebrate Mozart's Birthday with Mr. Jim (1/27/1756)
DESCRIPTION:
URL:https://otrkidz.com/event/celebrate-mozarts-birthday-with-mr-jim-1-27-1756/
END:VEVENT
END:VCALENDAR